BEGIN:VCALENDAR
VERSION:2.0
PRODID:-//eventon.com NONSGML v1.0//EN
CALSCALE:GREGORIAN
METHOD:PUBLISH
BEGIN:VEVENT
UID:69ece4f2ae75a
DTSTAMP:20260425T155946Z
DTSTART:20260509T230000Z
DTEND:20260510T000000Z
LOCATION:Camp Fimfo (Waco) 1000 Chickadee Ln\,  Waco\,  TX 76708
SUMMARY:Camp Fimfo (Waco) May 9\,  2026
DESCRIPTION:Come join the Texas Jamm Band for a night of music and fun. May
  9\,  2026 at Camp Fimfo in Waco! Tickets go on sale Wednesday March 18th\n
 https://texasjammband.com/events/camp-fimfo-waco-may-9-2026/
URL:https://texasjammband.com/events/camp-fimfo-waco-may-9-2026/
END:VEVENT
END:VCALENDAR