BEGIN:VCALENDAR
VERSION:2.0
PRODID:-//eventon.com NONSGML v1.0//EN
CALSCALE:GREGORIAN
METHOD:PUBLISH
BEGIN:VEVENT
UID:69ece4f271cc5
DTSTAMP:20260425T155946Z
DTSTART:20260516T003000Z
DTEND:20260516T030000Z
LOCATION:Moody Center 2001 Robert Dedman Dr.
SUMMARY:Moody Center/Austin TX with George Strait  (May 15\,  2026)
DESCRIPTION:George Strait is coming back to Moody Center for two nights o
 n May 15th and 16th 2026. Get your tickets soon!\nhttps://texasjammband.com
 /events/moody-center-austin-tx-with-george-strait-april-15-2026/
URL:https://texasjammband.com/events/moody-center-austin-tx-with-george-strait-april-15-2026/
END:VEVENT
END:VCALENDAR