BEGIN:VCALENDAR
VERSION:2.0
PRODID:-//eventon.com NONSGML v1.0//EN
CALSCALE:GREGORIAN
METHOD:PUBLISH
BEGIN:VEVENT
UID:69ece61ba1f0c
DTSTAMP:20260425T160443Z
DTSTART:20260503T020000Z
DTEND:20260503T040000Z
LOCATION:Memorial Stadium 1 Avenue of Champions
SUMMARY:Memorial Stadium/Clemson SC with George Strait  (May 2\, 2026)
DESCRIPTION:Join George Strait and his Ace In The Hole Band for a night of 
 live music and fun!\nhttps://texasjammband.com/events/moody-center-austin-t
 x-with-george-strait-may16-2026/
URL:https://texasjammband.com/events/moody-center-austin-tx-with-george-strait-may16-2026/
END:VEVENT
END:VCALENDAR