BEGIN:VCALENDAR
VERSION:2.0
PRODID:-//eventon.com NONSGML v1.0//EN
CALSCALE:GREGORIAN
METHOD:PUBLISH
BEGIN:VEVENT
UID:69ecccef6cb2c
DTSTAMP:20260425T141719Z
DTSTART:20260524T020000Z
DTEND:20260524T040000Z
LOCATION:London Dance Hall 17430 US-377
SUMMARY:London Dance Hall/London TX (May 23\,  2026)
DESCRIPTION:Join the Texas Jamm Bad at the London Dance Hall\,  one of the 
 oldest dance halls in Texas. London Dance Hall is located in London\,  Texa
 s\,  20 miles Northeast of Junction on Highway 377.\nhttps://texasjammband.
 com/events/london-hall-london-tx-may-23-2026/
URL:https://texasjammband.com/events/london-hall-london-tx-may-23-2026/
END:VEVENT
END:VCALENDAR