BEGIN:VCALENDAR
VERSION:2.0
PRODID:-//eventon.com NONSGML v1.0//EN
CALSCALE:GREGORIAN
METHOD:PUBLISH
BEGIN:VEVENT
UID:69ece61b518e5
DTSTAMP:20260425T160443Z
DTSTART:20260517T003000Z
DTEND:20260517T030000Z
LOCATION:Moody Center 2001 Robert Dedman Dr.
SUMMARY:Moody Center/Austin TX with George Strait  (May 16\,  2026)
DESCRIPTION:George Strait is coming back to Moody Center for two nights o
 n May 15th and 16th 2026. Get your tickets soon!\nhttps://texasjammband.com
 /events/moody-center-austin-tx-with-george-strait-may-16-2026-copy/
URL:https://texasjammband.com/events/moody-center-austin-tx-with-george-strait-may-16-2026-copy/
END:VEVENT
END:VCALENDAR