BEGIN:VCALENDAR
VERSION:2.0
PRODID:-//eventon.com NONSGML v1.0//EN
CALSCALE:GREGORIAN
METHOD:PUBLISH
BEGIN:VEVENT
UID:69ecccc601527
DTSTAMP:20260425T141638Z
DTSTART:20260906T010000Z
DTEND:20260906T030000Z
LOCATION:National Championship Chuckwagon Race 414 McKnight Ln
SUMMARY:National Championship Chuckwagon Race/Clinton\,  AR (Sept. 5\,  2026)
DESCRIPTION:Join the Texas Jamm Band in Clinton\,  AR for some great live m
 usic during the National Championship Chuckwagon Race festivities.\nhttps:/
 /texasjammband.com/events/national-championship-chuckwagon-race-clinton-ar-
 sept-5-2026/
URL:https://texasjammband.com/events/national-championship-chuckwagon-race-clinton-ar-sept-5-2026/
END:VEVENT
END:VCALENDAR