BEGIN:VCALENDAR
VERSION:2.0
PRODID:-//eventon.com NONSGML v1.0//EN
CALSCALE:GREGORIAN
METHOD:PUBLISH
BEGIN:VEVENT
UID:69ece3232d07c
DTSTAMP:20260425T155203Z
DTSTART:20260815T200000Z
DTEND:20260815T220000Z
LOCATION:
SUMMARY:Private Party (August 15\,  2026)
DESCRIPTION:Private Party (August 15\,  2026)\nhttps://texasjammband.com/ev
 ents/private-party-august-15-2026/
URL:https://texasjammband.com/events/private-party-august-15-2026/
END:VEVENT
END:VCALENDAR